BEGIN:VCALENDAR
VERSION:2.0
PRODID:-//Lyon VTT - ECPv5.11.0//NONSGML v1.0//EN
CALSCALE:GREGORIAN
METHOD:PUBLISH
X-WR-CALNAME:Lyon VTT
X-ORIGINAL-URL:https://www.lyonvtt.fr
X-WR-CALDESC:évènements pour Lyon VTT
BEGIN:VTIMEZONE
TZID:Europe/Paris
BEGIN:DAYLIGHT
TZOFFSETFROM:+0100
TZOFFSETTO:+0200
TZNAME:CEST
DTSTART:20250330T010000
END:DAYLIGHT
BEGIN:STANDARD
TZOFFSETFROM:+0200
TZOFFSETTO:+0100
TZNAME:CET
DTSTART:20251026T010000
END:STANDARD
END:VTIMEZONE
BEGIN:VEVENT
DTSTART;VALUE=DATE:20250629
DTEND;VALUE=DATE:20250630
DTSTAMP:20260423T133112
CREATED:20250218T201304Z
LAST-MODIFIED:20250218T201304Z
UID:20257-1751155200-1751241599@www.lyonvtt.fr
SUMMARY:Demi-journées pilotage à Pollionnay - Semnoz
DESCRIPTION:
URL:https://www.lyonvtt.fr/event/demi-journees-pilotage-a-pollionnay-semnoz/
CATEGORIES:Enduro/DH
END:VEVENT
END:VCALENDAR